BEGIN:VCALENDAR
VERSION:2.0
PRODID:https://folia.pt
X-PUBLISHED-TTL:P1W
BEGIN:VEVENT
UID:https://folia.pt/folia_activity/exibicao-do-filme-os-sonhos-continuam/
DTSTART:20250803T170000Z
SEQUENCE:0
TRANSP:OPAQUE
DTEND:20250803T180000Z
LOCATION: Casa das Artes, Arcos de Valdevez, Portugal
GEO:41.847669;-8.41733709999994
SUMMARY:Exibição do Filme &#8220;Os Sonhos Continuam&#8221;
DESCRIPTION:
URL:https://folia.pt/folia_activity/exibicao-do-filme-os-sonhos-continuam/
DTSTAMP:20250711T140451Z
END:VEVENT
END:VCALENDAR
