BEGIN:VCALENDAR
VERSION:2.0
PRODID:https://folia.pt
X-PUBLISHED-TTL:P1W
BEGIN:VEVENT
UID:https://folia.pt/folia_activity/rusgas-populares/
DTSTART:20250802T223000Z
SEQUENCE:0
TRANSP:OPAQUE
DTEND:20250802T233000Z
LOCATION: 
GEO:41.84137799407454;-8.418686985969543
SUMMARY:Rusgas Populares
DESCRIPTION:
URL:https://folia.pt/folia_activity/rusgas-populares/
DTSTAMP:20250711T140415Z
END:VEVENT
END:VCALENDAR
