BEGIN:VCALENDAR
VERSION:2.0
PRODID:https://folia.pt
X-PUBLISHED-TTL:P1W
BEGIN:VEVENT
UID:https://folia.pt/folia_activity/desfile-dos-grupos-de-bombos-24/
DTSTART:20240810T150000Z
SEQUENCE:0
TRANSP:OPAQUE
DTEND:20240810T160000Z
LOCATION: 
GEO:41.845838888882206;-8.419196605682373
SUMMARY:Desfile dos Grupos de Bombos
DESCRIPTION:
URL:https://folia.pt/folia_activity/desfile-dos-grupos-de-bombos-24/
DTSTAMP:20240723T103922Z
END:VEVENT
END:VCALENDAR
